BEGIN:VCALENDAR
VERSION:2.0
PRODID:-//The Structural Concrete Alliance - ECPv6.15.20//NONSGML v1.0//EN
CALSCALE:GREGORIAN
METHOD:PUBLISH
X-WR-CALNAME:The Structural Concrete Alliance
X-ORIGINAL-URL:https://www.structuralconcretealliance.com
X-WR-CALDESC:Events for The Structural Concrete Alliance
REFRESH-INTERVAL;VALUE=DURATION:PT1H
X-Robots-Tag:noindex
X-PUBLISHED-TTL:PT1H
BEGIN:VTIMEZONE
TZID:UTC
BEGIN:STANDARD
TZOFFSETFROM:+0000
TZOFFSETTO:+0000
TZNAME:UTC
DTSTART:20240101T000000
END:STANDARD
END:VTIMEZONE
BEGIN:VEVENT
DTSTART;VALUE=DATE:20250704
DTEND;VALUE=DATE:20250705
DTSTAMP:20260417T213514
CREATED:20250416T133146Z
LAST-MODIFIED:20250514T125625Z
UID:1757-1751587200-1751673599@www.structuralconcretealliance.com
SUMMARY:CRA General & Social Day
DESCRIPTION:The CRA is thrilled to invite CRA\, CPA and SCA members to its Summer Social on Friday 4th July 2025 at Haydock Park Racecourse. \nWe would like to encourage all members to bring their colleagues and clients for an unforgettable event. \n\n\n\n\n\n\n\n\n\n\n\n\nWe also have exciting sponsorship opportunities available for this event\, offering a fantastic chance to showcase your brand to a prestigious audience. If you’re interested in enhancing your company’s visibility and aligning with this high profile occasion\, please get in touch for more details on available packages. \n  \nGet ready for an action-packed day of thrilling races and exclusive hospitality\, followed by an unforgettable evening of entertainment featuring a concert by the legendary Tom Jones! \n\n\n\n\n\n\n\n\n\n\n\n\n\n\n\n\nEvent schedule\n16:25 Gates open at Haydock Park\n18:25 First race\n21:00 Last race \n21:15 Concert starts (approx) \n22:45 Concert ends (approx) \nWe’re excited to offer an exclusive ticket price for CPA and SCA members of £140 + VAT per person or £1\,260 + VAT for a table of 10. Secure your place now \nBOOK HERE: CRA Raceday (Alliance) 2025 \n  \nHeadline sponsor
URL:https://www.structuralconcretealliance.com/events-calendar/cra-general-social-day-2/
LOCATION:Haydock Park\, Newton-le-Willows\, Haydock\, WA12 0HQ\, United Kingdom
ATTACH;FMTTYPE=image/jpeg:https://www.structuralconcretealliance.com/wp-content/uploads/2025/04/untitled-design-7.jpg
END:VEVENT
END:VCALENDAR