BEGIN:VCALENDAR
VERSION:2.0
PRODID:-//The Structural Concrete Alliance - ECPv6.15.20//NONSGML v1.0//EN
CALSCALE:GREGORIAN
METHOD:PUBLISH
X-WR-CALNAME:The Structural Concrete Alliance
X-ORIGINAL-URL:https://www.structuralconcretealliance.com
X-WR-CALDESC:Events for The Structural Concrete Alliance
REFRESH-INTERVAL;VALUE=DURATION:PT1H
X-Robots-Tag:noindex
X-PUBLISHED-TTL:PT1H
BEGIN:VTIMEZONE
TZID:UTC
BEGIN:STANDARD
TZOFFSETFROM:+0000
TZOFFSETTO:+0000
TZNAME:UTC
DTSTART:20240101T000000
END:STANDARD
END:VTIMEZONE
BEGIN:VEVENT
DTSTART;VALUE=DATE:20250925
DTEND;VALUE=DATE:20250926
DTSTAMP:20260423T021609
CREATED:20250429T080052Z
LAST-MODIFIED:20250829T093535Z
UID:1765-1758758400-1758844799@www.structuralconcretealliance.com
SUMMARY:Alliance Industry Day
DESCRIPTION:BOOK TODAY\nAlliance Industry Day – Glasgow\n25th September 2025The Royal College of Physicians and Surgeons of Glasgow \nJoin us for the next Alliance Industry Day\, hosted by the Structural Concrete Alliance\, as we head to Glasgow for a day of insight\, collaboration\, and innovation. \nFollowing successful events in London and Manchester\, this September’s Industry Day promises to be another successful event. \nExpert Speakers | Networking Opportunities | Historic Venue \nHosted by Chris Wozencroft (Corrosion Engineering)\, with the following speakers coverings: \n-Christian Stone\, Loughborough University on Understanding RAAC concrete\n-Dr David Collings\, ARCADIS delivering insights on useful lifetime data for concrete bridges.\n-Peter Reekie\, Scottish Futures Trust speaking on sustainable infrastructure for a thriving Scotland\n-Sairah Qureshi\, Mott MacDonald\, presenting their technical article on climate change and corrosion.\n-Rob Fairweather  & Bernadette Anderson\, VolkerLaser\, presenting on Sweating the Asset – Protect\, Repair\, and Strengthen \n\n\n\nSchdeule\n\n\nTime\nPresentation\n\n\n08:30 – 10:00\nRegistration / Breakfast / Netoworking\n\n\n10:00 – 10:05\nWelcome\n\n\n10:05 – 10:35\nSpeaker 1 – Christian Stone\n\n\n10:35 – 11:05\nSpeaker 2 – David Collins\n\n\n11:05 – 11:35\nSpeaker 3 – Peter Reekie\n\n\n11:35 – 12:00\nCoffee Break\n\n\n12:00 – 12:30\nSpeaker 4 – Sairah Quereshi\n\n\n12:30 – 13:00\nSpeaker 5\n\n\n13:00 – 13:30\nPanel Discussion / Close\n\n\n13:00 – 15:00\nLunch / Networking\n\n\n\n  \nBook HERE to secure your spot!
URL:https://www.structuralconcretealliance.com/events-calendar/alliance-industry-day-2/
LOCATION:Royal College of Physicians and Surgeons of Glasgow\, 232-242 Saint Vincent Street\, Glasgow\, G2 5RJ\, United Kingdom
CATEGORIES:Alliance
ATTACH;FMTTYPE=image/png:https://www.structuralconcretealliance.com/wp-content/uploads/2025/04/untitled-1200-x-628-px.png
ORGANIZER;CN="Structural Concrete Alliance":MAILTO:admin@structuralconcretealliance.org
END:VEVENT
END:VCALENDAR